BEGIN:VCALENDAR
VERSION:2.0
PRODID:icalendar-ruby
CALSCALE:GREGORIAN
METHOD:PUBLISH
BEGIN:VEVENT
DTSTAMP:20260421T042041Z
UID:5-453337@pioneerchurch.info
DTSTART:20261025T170000Z
DTEND:20261025T180000Z
CLASS:PUBLIC
CREATED:20260420T181501
DESCRIPTION:Sunday Worship
LAST-MODIFIED:20260420T181501
LOCATION:
SUMMARY:Sunday Worship
URL;VALUE=URI:https://www.pioneerchurch.info/events/sunday-worship/2026-10-
 25
END:VEVENT
END:VCALENDAR
