BEGIN:VCALENDAR
VERSION:2.0
PRODID:icalendar-ruby
CALSCALE:GREGORIAN
METHOD:PUBLISH
BEGIN:VEVENT
DTSTAMP:20260420T223504Z
UID:5-452669@pioneerchurch.info
DTSTART:20260927T170000Z
DTEND:20260927T180000Z
CLASS:PUBLIC
CREATED:20260420T130507
DESCRIPTION:Sunday Worship
LAST-MODIFIED:20260420T130507
LOCATION:
SUMMARY:Sunday Worship
URL;VALUE=URI:https://www.pioneerchurch.info/events/sunday-worship/2026-09-
 27
END:VEVENT
END:VCALENDAR
