BEGIN:VCALENDAR
VERSION:2.0
PRODID:icalendar-ruby
CALSCALE:GREGORIAN
METHOD:PUBLISH
BEGIN:VEVENT
DTSTAMP:20260420T210521Z
UID:5-452668@pioneerchurch.info
DTSTART:20260920T170000Z
DTEND:20260920T180000Z
CLASS:PUBLIC
CREATED:20260420T130507
DESCRIPTION:Sunday Worship
LAST-MODIFIED:20260420T130507
LOCATION:
SUMMARY:Sunday Worship
URL;VALUE=URI:https://www.pioneerchurch.info/events/sunday-worship/2026-09-
 20
END:VEVENT
END:VCALENDAR
