BEGIN:VCALENDAR
VERSION:2.0
PRODID:icalendar-ruby
CALSCALE:GREGORIAN
METHOD:PUBLISH
BEGIN:VEVENT
DTSTAMP:20260420T182045Z
UID:5-452334@pioneerchurch.info
DTSTART:20260906T170000Z
DTEND:20260906T180000Z
CLASS:PUBLIC
CREATED:20260420T102949
DESCRIPTION:Sunday Worship
LAST-MODIFIED:20260420T102949
LOCATION:
SUMMARY:Sunday Worship
URL;VALUE=URI:https://www.pioneerchurch.info/events/sunday-worship/2026-09-
 06
END:VEVENT
END:VCALENDAR
