BEGIN:VCALENDAR
VERSION:2.0
PRODID:icalendar-ruby
CALSCALE:GREGORIAN
METHOD:PUBLISH
BEGIN:VEVENT
DTSTAMP:20260420T164359Z
UID:5-452001@pioneerchurch.info
DTSTART:20260830T170000Z
DTEND:20260830T180000Z
CLASS:PUBLIC
CREATED:20260420T075537
DESCRIPTION:Sunday Worship
LAST-MODIFIED:20260420T075537
LOCATION:
SUMMARY:Sunday Worship
URL;VALUE=URI:https://www.pioneerchurch.info/events/sunday-worship/2026-08-
 30
END:VEVENT
END:VCALENDAR
