BEGIN:VCALENDAR
VERSION:2.0
PRODID:icalendar-ruby
CALSCALE:GREGORIAN
METHOD:PUBLISH
BEGIN:VEVENT
DTSTAMP:20260420T140307Z
UID:5-451667@pioneerchurch.info
DTSTART:20260816T170000Z
DTEND:20260816T180000Z
CLASS:PUBLIC
CREATED:20260420T052116
DESCRIPTION:Sunday Worship
LAST-MODIFIED:20260420T052116
LOCATION:
SUMMARY:Sunday Worship
URL;VALUE=URI:https://www.pioneerchurch.info/events/sunday-worship/2026-08-
 16
END:VEVENT
END:VCALENDAR
