BEGIN:VCALENDAR
VERSION:2.0
PRODID:icalendar-ruby
CALSCALE:GREGORIAN
METHOD:PUBLISH
BEGIN:VEVENT
DTSTAMP:20260420T232824Z
UID:6-453074@pioneerchurch.info
DTSTART:20261006T010000Z
DTEND:20261006T040000Z
CLASS:PUBLIC
CREATED:20260420T154039
DESCRIPTION:\nWe are SO excited for summer and we want to take every opport
 unity that we have to bring the community together for fun and sunshine!\n
 \n\nBring a lawn chair\, sand toys and the family! \nOne volleyball court
  for experienced players and one for beginners ages 10+. \n\n\nWe’ll se
 e you there!\n
LAST-MODIFIED:20260420T154039
LOCATION:Stearns Park Ludington Michigan 
SUMMARY:Pioneer Nights 
URL;VALUE=URI:https://www.pioneerchurch.info/events/pioneer-nights/2026-10-
 05
ATTACH;FILENAME=tempImageiTOQKF.jpg;FMTTYPE=image/jpeg:https://dq5pwpg1q8ru
 0.cloudfront.net/2025/06/19/14/01/13/a8f95321-cba7-4bb5-a46c-fd23039bd3fc/
 tempImageiTOQKF.jpg
END:VEVENT
END:VCALENDAR
